BEGIN:VCALENDAR
VERSION:2.0
PRODID:-//Kurboroo Kindergarten - ECPv6.6.2//NONSGML v1.0//EN
CALSCALE:GREGORIAN
METHOD:PUBLISH
X-WR-CALNAME:Kurboroo Kindergarten
X-ORIGINAL-URL:https://kurboroo.vic.edu.au
X-WR-CALDESC:Events for Kurboroo Kindergarten
REFRESH-INTERVAL;VALUE=DURATION:PT1H
X-Robots-Tag:noindex
X-PUBLISHED-TTL:PT1H
BEGIN:VTIMEZONE
TZID:Australia/Melbourne
BEGIN:STANDARD
TZOFFSETFROM:+1100
TZOFFSETTO:+1000
TZNAME:AEST
DTSTART:20220402T160000
END:STANDARD
BEGIN:DAYLIGHT
TZOFFSETFROM:+1000
TZOFFSETTO:+1100
TZNAME:AEDT
DTSTART:20221001T160000
END:DAYLIGHT
END:VTIMEZONE
BEGIN:VEVENT
DTSTART;TZID=Australia/Melbourne:20220901T180000
DTEND;TZID=Australia/Melbourne:20220901T193000
DTSTAMP:20260421T234453
CREATED:20220810T043738Z
LAST-MODIFIED:20220810T043738Z
UID:988836-1662055200-1662060600@kurboroo.vic.edu.au
SUMMARY:Special Person's Night (Koala's)
DESCRIPTION:
URL:https://kurboroo.vic.edu.au/event/special-persons-night-koalas/
LOCATION:Kurboroo Kindegarten\, 71 Bembooka Road\, Warranwood\, VIC\, 3134\, Australia
CATEGORIES:4 Year Old,Koalas
END:VEVENT
BEGIN:VEVENT
DTSTART;TZID=Australia/Melbourne:20220830T180000
DTEND;TZID=Australia/Melbourne:20220830T193000
DTSTAMP:20260421T234453
CREATED:20220810T043638Z
LAST-MODIFIED:20220810T045643Z
UID:988833-1661882400-1661887800@kurboroo.vic.edu.au
SUMMARY:Special Person's Night (Possums)
DESCRIPTION:
URL:https://kurboroo.vic.edu.au/event/special-persons-night-possums/
LOCATION:Kurboroo Kindegarten\, 71 Bembooka Road\, Warranwood\, VIC\, 3134\, Australia
CATEGORIES:4 Year Old,Possums
END:VEVENT
BEGIN:VEVENT
DTSTART;VALUE=DATE:20220820
DTEND;VALUE=DATE:20220827
DTSTAMP:20260421T234453
CREATED:20220810T043334Z
LAST-MODIFIED:20220810T043334Z
UID:988831-1660953600-1661558399@kurboroo.vic.edu.au
SUMMARY:Book Week
DESCRIPTION:
URL:https://kurboroo.vic.edu.au/event/book-week/
LOCATION:VIC
CATEGORIES:4 Year Old,Koalas,Possums
END:VEVENT
BEGIN:VEVENT
DTSTART;VALUE=DATE:20220820
DTEND;VALUE=DATE:20220821
DTSTAMP:20260421T234453
CREATED:20220621T230720Z
LAST-MODIFIED:20220621T230720Z
UID:988705-1660953600-1661039999@kurboroo.vic.edu.au
SUMMARY:Foons Photography (Kinder Photos)
DESCRIPTION:Possums
URL:https://kurboroo.vic.edu.au/event/foons-photography-kinder-photos-2/
LOCATION:VIC
CATEGORIES:4 Year Old
END:VEVENT
BEGIN:VEVENT
DTSTART;TZID=Australia/Melbourne:20220819T080000
DTEND;TZID=Australia/Melbourne:20220819T170000
DTSTAMP:20260421T234453
CREATED:20220621T230635Z
LAST-MODIFIED:20220621T230635Z
UID:988703-1660896000-1660928400@kurboroo.vic.edu.au
SUMMARY:Foons Photography (Kinder Photos)
DESCRIPTION:Koalas
URL:https://kurboroo.vic.edu.au/event/foons-photography-kinder-photos/
LOCATION:VIC
CATEGORIES:4 Year Old
END:VEVENT
BEGIN:VEVENT
DTSTART;VALUE=DATE:20220819
DTEND;VALUE=DATE:20220820
DTSTAMP:20260421T234453
CREATED:20220810T041847Z
LAST-MODIFIED:20220810T045709Z
UID:988822-1660867200-1660953599@kurboroo.vic.edu.au
SUMMARY:Wildlife Xposure Incursion (Possums)
DESCRIPTION:
URL:https://kurboroo.vic.edu.au/event/wildlife-xposure-possums/
LOCATION:VIC
CATEGORIES:4 Year Old,Possums
END:VEVENT
BEGIN:VEVENT
DTSTART;VALUE=DATE:20220818
DTEND;VALUE=DATE:20220819
DTSTAMP:20260421T234453
CREATED:20220810T042222Z
LAST-MODIFIED:20220810T042412Z
UID:988825-1660780800-1660867199@kurboroo.vic.edu.au
SUMMARY:Wildlife Xposure Incursion (Koalas)
DESCRIPTION:
URL:https://kurboroo.vic.edu.au/event/wildlife-xposure-incursion-koalas/
LOCATION:VIC
CATEGORIES:4 Year Old,Koalas
END:VEVENT
BEGIN:VEVENT
DTSTART;VALUE=DATE:20220730
DTEND;VALUE=DATE:20220731
DTSTAMP:20260421T234453
CREATED:20220621T230600Z
LAST-MODIFIED:20220621T230600Z
UID:988701-1659139200-1659225599@kurboroo.vic.edu.au
SUMMARY:Henny Penny Hatching Incursion
DESCRIPTION:Possums & Koalas
URL:https://kurboroo.vic.edu.au/event/henny-penny-hatching-incursion/
LOCATION:VIC
CATEGORIES:4 Year Old
END:VEVENT
BEGIN:VEVENT
DTSTART;VALUE=DATE:20220712
DTEND;VALUE=DATE:20220713
DTSTAMP:20260421T234453
CREATED:20220621T230518Z
LAST-MODIFIED:20220621T230518Z
UID:988699-1657584000-1657670399@kurboroo.vic.edu.au
SUMMARY:First Day Of Term
DESCRIPTION:
URL:https://kurboroo.vic.edu.au/event/first-day-of-term/
LOCATION:VIC
CATEGORIES:4 Year Old
END:VEVENT
BEGIN:VEVENT
DTSTART;VALUE=DATE:20220623
DTEND;VALUE=DATE:20220625
DTSTAMP:20260421T234453
CREATED:20220621T010247Z
LAST-MODIFIED:20220621T225552Z
UID:988671-1655978400-1656064799@kurboroo.vic.edu.au
SUMMARY:Kindergarten Open Day
DESCRIPTION:
URL:https://kurboroo.vic.edu.au/event/kindergarten-open-day/
LOCATION:VIC
END:VEVENT
END:VCALENDAR