BEGIN:VCALENDAR
VERSION:2.0
PRODID:-//Kurboroo Kindergarten - ECPv6.6.2//NONSGML v1.0//EN
CALSCALE:GREGORIAN
METHOD:PUBLISH
X-ORIGINAL-URL:https://kurboroo.vic.edu.au
X-WR-CALDESC:Events for Kurboroo Kindergarten
REFRESH-INTERVAL;VALUE=DURATION:PT1H
X-Robots-Tag:noindex
X-PUBLISHED-TTL:PT1H
BEGIN:VTIMEZONE
TZID:Australia/Melbourne
BEGIN:STANDARD
TZOFFSETFROM:+1100
TZOFFSETTO:+1000
TZNAME:AEST
DTSTART:20220402T160000
END:STANDARD
BEGIN:DAYLIGHT
TZOFFSETFROM:+1000
TZOFFSETTO:+1100
TZNAME:AEDT
DTSTART:20221001T160000
END:DAYLIGHT
END:VTIMEZONE
BEGIN:VEVENT
DTSTART;VALUE=DATE:20220820
DTEND;VALUE=DATE:20220827
DTSTAMP:20260422T103239
CREATED:20220810T043334Z
LAST-MODIFIED:20220810T043334Z
UID:988831-1660953600-1661558399@kurboroo.vic.edu.au
SUMMARY:Book Week
DESCRIPTION:
URL:https://kurboroo.vic.edu.au/event/book-week/
CATEGORIES:4 Year Old,Koalas,Possums
END:VEVENT
END:VCALENDAR