BEGIN:VCALENDAR
VERSION:2.0
PRODID:-//Kurboroo Kindergarten - ECPv6.6.2//NONSGML v1.0//EN
CALSCALE:GREGORIAN
METHOD:PUBLISH
X-ORIGINAL-URL:https://kurboroo.vic.edu.au
X-WR-CALDESC:Events for Kurboroo Kindergarten
REFRESH-INTERVAL;VALUE=DURATION:PT1H
X-Robots-Tag:noindex
X-PUBLISHED-TTL:PT1H
BEGIN:VTIMEZONE
TZID:Australia/Melbourne
BEGIN:STANDARD
TZOFFSETFROM:+1100
TZOFFSETTO:+1000
TZNAME:AEST
DTSTART:20220402T160000
END:STANDARD
BEGIN:DAYLIGHT
TZOFFSETFROM:+1000
TZOFFSETTO:+1100
TZNAME:AEDT
DTSTART:20221001T160000
END:DAYLIGHT
END:VTIMEZONE
BEGIN:VEVENT
DTSTART;VALUE=DATE:20221216
DTEND;VALUE=DATE:20221217
DTSTAMP:20260422T182240
CREATED:20220810T044440Z
LAST-MODIFIED:20220810T044440Z
UID:988848-1671148800-1671235199@kurboroo.vic.edu.au
SUMMARY:Party Day / End of the Year (Possums)
DESCRIPTION:
URL:https://kurboroo.vic.edu.au/event/party-day-end-of-the-year-possums/
CATEGORIES:4 Year Old,Possums
END:VEVENT
BEGIN:VEVENT
DTSTART;VALUE=DATE:20221216
DTEND;VALUE=DATE:20221217
DTSTAMP:20260422T182240
CREATED:20220810T045543Z
LAST-MODIFIED:20220810T045543Z
UID:988860-1671148800-1671235199@kurboroo.vic.edu.au
SUMMARY:Sessions End
DESCRIPTION:
URL:https://kurboroo.vic.edu.au/event/sessions-end/
CATEGORIES:4 Year Old
END:VEVENT
END:VCALENDAR