BEGIN:VCALENDAR
VERSION:2.0
PRODID:-//Kurboroo Kindergarten - ECPv6.6.2//NONSGML v1.0//EN
CALSCALE:GREGORIAN
METHOD:PUBLISH
X-ORIGINAL-URL:https://kurboroo.vic.edu.au
X-WR-CALDESC:Events for Kurboroo Kindergarten
REFRESH-INTERVAL;VALUE=DURATION:PT1H
X-Robots-Tag:noindex
X-PUBLISHED-TTL:PT1H
BEGIN:VTIMEZONE
TZID:Australia/Melbourne
BEGIN:STANDARD
TZOFFSETFROM:+1100
TZOFFSETTO:+1000
TZNAME:AEST
DTSTART:20220402T160000
END:STANDARD
BEGIN:DAYLIGHT
TZOFFSETFROM:+1000
TZOFFSETTO:+1100
TZNAME:AEDT
DTSTART:20221001T160000
END:DAYLIGHT
END:VTIMEZONE
BEGIN:VEVENT
DTSTART;TZID=Australia/Melbourne:20221206T183000
DTEND;TZID=Australia/Melbourne:20221206T193000
DTSTAMP:20260422T182202
CREATED:20220810T044956Z
LAST-MODIFIED:20220810T044956Z
UID:988856-1670351400-1670355000@kurboroo.vic.edu.au
SUMMARY:Christmas Celebration Nights (Possums)
DESCRIPTION:
URL:https://kurboroo.vic.edu.au/event/christmas-celebration-nights-possums/
CATEGORIES:4 Year Old,Possums
END:VEVENT
END:VCALENDAR