BEGIN:VCALENDAR
VERSION:2.0
PRODID:-//Kurboroo Kindergarten - ECPv6.6.2//NONSGML v1.0//EN
CALSCALE:GREGORIAN
METHOD:PUBLISH
X-ORIGINAL-URL:https://kurboroo.vic.edu.au
X-WR-CALDESC:Events for Kurboroo Kindergarten
REFRESH-INTERVAL;VALUE=DURATION:PT1H
X-Robots-Tag:noindex
X-PUBLISHED-TTL:PT1H
BEGIN:VTIMEZONE
TZID:Australia/Melbourne
BEGIN:STANDARD
TZOFFSETFROM:+1100
TZOFFSETTO:+1000
TZNAME:AEST
DTSTART:20220402T160000
END:STANDARD
BEGIN:DAYLIGHT
TZOFFSETFROM:+1000
TZOFFSETTO:+1100
TZNAME:AEDT
DTSTART:20221001T160000
END:DAYLIGHT
END:VTIMEZONE
BEGIN:VEVENT
DTSTART;VALUE=DATE:20220916
DTEND;VALUE=DATE:20220917
DTSTAMP:20260424T201631
CREATED:20220810T044212Z
LAST-MODIFIED:20220810T044212Z
UID:988842-1663286400-1663372799@kurboroo.vic.edu.au
SUMMARY:End of Term
DESCRIPTION:
URL:https://kurboroo.vic.edu.au/event/end-of-term/
CATEGORIES:4 Year Old
END:VEVENT
END:VCALENDAR