BEGIN:VCALENDAR
VERSION:2.0
PRODID:-//Kurboroo Kindergarten - ECPv6.6.2//NONSGML v1.0//EN
CALSCALE:GREGORIAN
METHOD:PUBLISH
X-ORIGINAL-URL:https://kurboroo.vic.edu.au
X-WR-CALDESC:Events for Kurboroo Kindergarten
REFRESH-INTERVAL;VALUE=DURATION:PT1H
X-Robots-Tag:noindex
X-PUBLISHED-TTL:PT1H
BEGIN:VTIMEZONE
TZID:Australia/Melbourne
BEGIN:STANDARD
TZOFFSETFROM:+1100
TZOFFSETTO:+1000
TZNAME:AEST
DTSTART:20220402T160000
END:STANDARD
BEGIN:DAYLIGHT
TZOFFSETFROM:+1000
TZOFFSETTO:+1100
TZNAME:AEDT
DTSTART:20221001T160000
END:DAYLIGHT
END:VTIMEZONE
BEGIN:VEVENT
DTSTART;TZID=Australia/Melbourne:20220830T180000
DTEND;TZID=Australia/Melbourne:20220830T193000
DTSTAMP:20260424T201411
CREATED:20220810T043638Z
LAST-MODIFIED:20220810T045643Z
UID:988833-1661882400-1661887800@kurboroo.vic.edu.au
SUMMARY:Special Person's Night (Possums)
DESCRIPTION:
URL:https://kurboroo.vic.edu.au/event/special-persons-night-possums/
LOCATION:Kurboroo Kindegarten\, 71 Bembooka Road\, Warranwood\, VIC\, 3134\, Australia
CATEGORIES:4 Year Old,Possums
END:VEVENT
END:VCALENDAR