BEGIN:VCALENDAR
VERSION:2.0
PRODID:-//Kurboroo Kindergarten - ECPv6.6.2//NONSGML v1.0//EN
CALSCALE:GREGORIAN
METHOD:PUBLISH
X-ORIGINAL-URL:https://kurboroo.vic.edu.au
X-WR-CALDESC:Events for Kurboroo Kindergarten
REFRESH-INTERVAL;VALUE=DURATION:PT1H
X-Robots-Tag:noindex
X-PUBLISHED-TTL:PT1H
BEGIN:VTIMEZONE
TZID:Australia/Melbourne
BEGIN:STANDARD
TZOFFSETFROM:+1100
TZOFFSETTO:+1000
TZNAME:AEST
DTSTART:20220402T160000
END:STANDARD
BEGIN:DAYLIGHT
TZOFFSETFROM:+1000
TZOFFSETTO:+1100
TZNAME:AEDT
DTSTART:20221001T160000
END:DAYLIGHT
END:VTIMEZONE
BEGIN:VEVENT
DTSTART;VALUE=DATE:20220712
DTEND;VALUE=DATE:20220713
DTSTAMP:20260424T212716
CREATED:20220621T230518Z
LAST-MODIFIED:20220621T230518Z
UID:988699-1657584000-1657670399@kurboroo.vic.edu.au
SUMMARY:First Day Of Term
DESCRIPTION:
URL:https://kurboroo.vic.edu.au/event/first-day-of-term/
CATEGORIES:4 Year Old
END:VEVENT
BEGIN:VEVENT
DTSTART;VALUE=DATE:20220730
DTEND;VALUE=DATE:20220731
DTSTAMP:20260424T212716
CREATED:20220621T230600Z
LAST-MODIFIED:20220621T230600Z
UID:988701-1659139200-1659225599@kurboroo.vic.edu.au
SUMMARY:Henny Penny Hatching Incursion
DESCRIPTION:Possums & Koalas
URL:https://kurboroo.vic.edu.au/event/henny-penny-hatching-incursion/
CATEGORIES:4 Year Old
END:VEVENT
END:VCALENDAR